BEGIN:VCALENDAR
VERSION:2.0
PRODID:-//pretix//pretix.eu//
BEGIN:VTIMEZONE
TZID:US/Pacific
BEGIN:STANDARD
DTSTART:20001029T030000
RRULE:FREQ=YEARLY;BYDAY=-1SU;BYMONTH=10;UNTIL=20061029T100000Z
TZNAME:PST
TZOFFSETFROM:-0700
TZOFFSETTO:-0800
END:STANDARD
BEGIN:STANDARD
DTSTART:20071104T030000
RRULE:FREQ=YEARLY;BYDAY=1SU;BYMONTH=11
TZNAME:PST
TZOFFSETFROM:-0700
TZOFFSETTO:-0800
END:STANDARD
BEGIN:DAYLIGHT
DTSTART:20000402T030000
RRULE:FREQ=YEARLY;BYDAY=1SU;BYMONTH=4;UNTIL=20060402T110000Z
TZNAME:PDT
TZOFFSETFROM:-0800
TZOFFSETTO:-0700
END:DAYLIGHT
BEGIN:DAYLIGHT
DTSTART:20070311T030000
RRULE:FREQ=YEARLY;BYDAY=2SU;BYMONTH=3
TZNAME:PDT
TZOFFSETFROM:-0800
TZOFFSETTO:-0700
END:DAYLIGHT
END:VTIMEZONE
BEGIN:VEVENT
UID:pretix-gmjournal-ewnplan26-0@events.greymattersjournal.org
DTSTART;TZID=US/Pacific:20260222T170000
DTEND;TZID=US/Pacific:20260222T180000
DESCRIPTION:Tickets: https://events.greymattersjournal.org/ewnplan26/\nOrga
 nizer: Grey Matters Journal
DTSTAMP:20260422T083807Z
LOCATION:Health Sciences Education Building\,\, 1607 NE Pacific St\, Seattl
 e\, WA 98195
SUMMARY:EWN Planning
END:VEVENT
END:VCALENDAR
